BEGIN:VCALENDAR
VERSION:2.0
PRODID:-//hacksw/handcal//NONSGML v1.0//EN
BEGIN:VEVENT
SUMMARY:Tournoi des Flandres - Kata
UID:0cfeb6c2-47d7-41ce-aca1-c5d41a1c2781
DTSTART:20260509T220000Z
DTEND:20260510T220000Z
LOCATION:Localisation Palais des Sports Saint - Sauveur - 78 Av. du President John F. Kennedy 59800 Lille
CATEGORIES:Sportif
STATUS:
DESCRIPTION:<p><span style="font-size:medium;"><span
 style="color:#000000;"><span style="font-family:'Times New
 Roman';"><span style="font-style:normal;"><span><span
 style="font-weight:400;"><span><span
 style="background-color:#ffffff;"><span><span><span><font
 face="tahoma, sans-serif"><font size="4"><font
 color="#000000">Le <strong><span class="gmail_default"
 style="font-size:large;"><span style="font-family:tahoma,
 sans-serif;">ASPTT Lille &  le TEMPLEMARS
 KC</span></span></strong> <span class="gmail_default"
 style="font-size:large;"><span style="font-family:tahoma,
 sans-serif;">ont</span></span> le plaisir de vous inviter a
 participer au <strong>Tournoi des Flandres Kata<span
 class="gmail_default" style="font-size:large;"><span
 style="font-family:tahoma, sans-serif;"> - 1ere
 Edition</span></span></strong>, qui se deroulera le <strong><span
 class="gmail_default" style="font-size:large;"><span
 style="font-family:tahoma, sans-serif;">10 <span class="Object"
 id="OBJ_PREFIX_DWT328_com_zimbra_date" style="color:#00008B;"><span
 style="text-decoration:none;"><span>Mai
 2026</span></span></span> </span></span> <span
 class="gmail_default" style="font-size:large;"><span
 style="font-family:tahoma, sans-serif;">a
 Lille</span></span></strong>.</font></font></font></span></span></span></span></span></span></span></span></span></span></span></p>
 
 <p><span
 style="font-size:medium;"><span style="color:#000000;"><span
 style="font-family:'Times New Roman';"><span
 style="font-style:normal;"><span><span
 style="font-weight:400;"><span><span
 style="background-color:#ffffff;"><span><span><span><font
 face="tahoma, sans-serif"><font size="4"><font color="#000000">Cet
 evenement, ouvert a tous les clubs, a pour objectif de rassembler les
 pratiquants autour d’une competition conviviale, accessible et de
 qualite, mettant a l’honneur la pratique
 du <strong>kata</strong> dans toutes ses
 categories.</font></font></font></span></span></span></span></span></span></span></span></span></span></span></p>
 
 <p><span
 style="font-size:medium;"><span style="color:#000000;"><span
 style="font-family:'Times New Roman';"><span
 style="font-style:normal;"><span><span
 style="font-weight:400;"><span><span
 style="background-color:#ffffff;"><span><span><span><font
 face="tahoma, sans-serif"><font size="4"><font
 color="#000000">👉 <strong>Au programme
 :</strong></font></font></font></span></span></span></span></span></span></span></span></span></span></span></p>
 
 <ul
 style="color:#000000;font-family:'Times New
 Roman';font-size:medium;font-style:normal;font-weight:400;background-color:#ffffff;">
 	<li>
 	<p><font
 face="tahoma, sans-serif"><font size="4"><font
 color="#000000">Competition kata individuelle <span
 class="gmail_default" style="font-size:large;"><span
 style="font-family:tahoma, sans-serif;">(Phase de Poule + Phase
 eliminatoire) garantissant un minimum de 2 matchs par
 participant.</span></span></font></font></font></p>
 	</li>
 	<li>
 	<p><font
 face="tahoma, sans-serif"><font size="4"><font
 color="#000000">Categories de <span class="gmail_default"
 style="font-size:large;"><span style="font-family:tahoma,
 sans-serif;">Pupilles aux Masters
 (Veterans)</span></span></font></font></font></p>
 	</li>
 	<li>
 	<p><font
 face="tahoma, sans-serif"><font size="4"><font color="#000000"><span
 class="gmail_default" style="font-size:large;"><span
 style="font-family:tahoma, sans-serif;">Des animations pedagogiques
 prevues pour les pupilles et les
 benjamins</span></span></font></font></font></p>
 	</li>
 </ul>
 
 <p><span
 style="font-size:medium;"><span style="color:#000000;"><span
 style="font-family:'Times New Roman';"><span
 style="font-style:normal;"><span><span
 style="font-weight:400;"><span><span
 style="background-color:#ffffff;"><span><span><span><font
 face="tahoma, sans-serif"><font size="4"><font
 color="#000000">📌 <strong>Informations pratiques
 :</strong></font></font></font></span></span></span></span></span></span></span></span></span></span></span></p>
 
 <ul
 style="color:#000000;font-family:'Times New
 Roman';font-size:medium;font-style:normal;font-weight:400;background-color:#ffffff;">
 	<li>
 	<p><font
 color="#000000"><font face="tahoma, sans-serif"><font size="4">📍
 Lieu : <span class="gmail_default" style="font-size:large;"><span
 style="font-family:tahoma, sans-serif;">Palais des Sports Saint -
 Sauveur -</span></span></font></font><font face="tahoma,
 sans-serif"><font size="4"> 78 Av. du President John F. Kennedy,
 59800 Lille</font></font></font></p>
 	</li>
 	<li>
 	<p><font
 color="#000000">🕘<span style="font-size:large;"><span
 style="font-family:tahoma, sans-serif;"> Horaires : <span
 class="gmail_default" style="font-size:large;"><span
 style="font-family:tahoma, sans-serif;">a partir de 9h (Debut de
 competition) .</span></span></span></span></font></p>
 	</li>
 </ul>
URL;VALUE=URI:https://www.shotokankaratedovernolien.fr/evenements/2026/05/10/tournoi-des-flandres-kata-2443896
END:VEVENT
END:VCALENDAR
